BEGIN:VCALENDAR
VERSION:2.0
PRODID:-//Square Dreamers - ECPv6.15.20//NONSGML v1.0//EN
CALSCALE:GREGORIAN
METHOD:PUBLISH
X-WR-CALNAME:Square Dreamers
X-ORIGINAL-URL:https://squaredreamers.de
X-WR-CALDESC:Veranstaltungen für Square Dreamers
REFRESH-INTERVAL;VALUE=DURATION:PT1H
X-Robots-Tag:noindex
X-PUBLISHED-TTL:PT1H
BEGIN:VTIMEZONE
TZID:UTC
BEGIN:STANDARD
TZOFFSETFROM:+0000
TZOFFSETTO:+0000
TZNAME:UTC
DTSTART:20230101T000000
END:STANDARD
END:VTIMEZONE
BEGIN:VEVENT
DTSTART;TZID=UTC:20241123T140000
DTEND;TZID=UTC:20241123T213000
DTSTAMP:20260424T230528
CREATED:20241020T131031Z
LAST-MODIFIED:20241020T140649Z
UID:2640-1732370400-1732397400@squaredreamers.de
SUMMARY:25 JAHRE LIONTOWN SQUARES
DESCRIPTION:Hier könnt ihr euch den Flyer herunterladen. \n \nHenry’s 42nd Birthday
URL:https://squaredreamers.de/event/25-jahre-liontown-squares/
LOCATION:Sporthalle Lagesbüttel\, Waller Lehmweg 8\, Schwülper / Lagesbüttel\, Niedersachsen\, 38179\, Deutschland
CATEGORIES:Specials anderer Clubs
ATTACH;FMTTYPE=image/jpeg:https://squaredreamers.de/wp-content/uploads/Kalenderbilder/Club-Specials/15Taenzer.jpg
ORGANIZER;CN="Lion Town Squares":MAILTO:president@LionTownSquares.de
END:VEVENT
END:VCALENDAR