BEGIN:VCALENDAR
VERSION:2.0
PRODID:-//Square Dreamers - ECPv6.15.20//NONSGML v1.0//EN
CALSCALE:GREGORIAN
METHOD:PUBLISH
X-WR-CALNAME:Square Dreamers
X-ORIGINAL-URL:https://squaredreamers.de
X-WR-CALDESC:Veranstaltungen für Square Dreamers
REFRESH-INTERVAL;VALUE=DURATION:PT1H
X-Robots-Tag:noindex
X-PUBLISHED-TTL:PT1H
BEGIN:VTIMEZONE
TZID:UTC
BEGIN:STANDARD
TZOFFSETFROM:+0000
TZOFFSETTO:+0000
TZNAME:UTC
DTSTART:20240101T000000
END:STANDARD
END:VTIMEZONE
BEGIN:VEVENT
DTSTART;VALUE=DATE:20250511
DTEND;VALUE=DATE:20250512
DTSTAMP:20260424T164224
CREATED:20190106T224130Z
LAST-MODIFIED:20240102T213654Z
UID:454-1746921600-1747007999@squaredreamers.de
SUMMARY:MUTTERTAG
DESCRIPTION:MUTTERTAG\nLiebe Mütter\, wir wünschen Euch alles Liebe zum Muttertag.
URL:https://squaredreamers.de/event/muttertag-2/
LOCATION:Niedersachsen
CATEGORIES:Ereignisse
ATTACH;FMTTYPE=image/gif:https://squaredreamers.de/wp-content/uploads/Kalenderbilder/Muttertag.gif
END:VEVENT
END:VCALENDAR