BEGIN:VCALENDAR
VERSION:2.0
PRODID:-//Square Dreamers - ECPv6.15.20//NONSGML v1.0//EN
CALSCALE:GREGORIAN
METHOD:PUBLISH
X-WR-CALNAME:Square Dreamers
X-ORIGINAL-URL:https://squaredreamers.de
X-WR-CALDESC:Veranstaltungen für Square Dreamers
REFRESH-INTERVAL;VALUE=DURATION:PT1H
X-Robots-Tag:noindex
X-PUBLISHED-TTL:PT1H
BEGIN:VTIMEZONE
TZID:UTC
BEGIN:STANDARD
TZOFFSETFROM:+0000
TZOFFSETTO:+0000
TZNAME:UTC
DTSTART:20240101T000000
END:STANDARD
END:VTIMEZONE
BEGIN:VEVENT
DTSTART;VALUE=DATE:20250530
DTEND;VALUE=DATE:20250531
DTSTAMP:20260424T164214
CREATED:20240102T220806Z
LAST-MODIFIED:20240102T221051Z
UID:2420-1748563200-1748649599@squaredreamers.de
SUMMARY:FERIENTAG NACH HIMMELFAHRT
DESCRIPTION:Am Freitag nach Himmelfahrt machen die Schulen in Niedersachsen einen Tag Ferien.\n\n\nAm Freitag nach Himmelfahrt machen die Schulen in Niedersachsen einen Tag Ferien.
URL:https://squaredreamers.de/event/ferientag-nach-himmelfahrt/
LOCATION:Niedersachsen
CATEGORIES:Ferien
ATTACH;FMTTYPE=image/gif:https://squaredreamers.de/wp-content/uploads/Kalenderbilder/animiertes-urlaub-bild-0020.gif
END:VEVENT
END:VCALENDAR