BEGIN:VCALENDAR
VERSION:2.0
PRODID:-//Square Dreamers - ECPv6.15.20//NONSGML v1.0//EN
CALSCALE:GREGORIAN
METHOD:PUBLISH
X-WR-CALNAME:Square Dreamers
X-ORIGINAL-URL:https://squaredreamers.de
X-WR-CALDESC:Veranstaltungen für Square Dreamers
REFRESH-INTERVAL;VALUE=DURATION:PT1H
X-Robots-Tag:noindex
X-PUBLISHED-TTL:PT1H
BEGIN:VTIMEZONE
TZID:UTC
BEGIN:STANDARD
TZOFFSETFROM:+0000
TZOFFSETTO:+0000
TZNAME:UTC
DTSTART:20250101T000000
END:STANDARD
END:VTIMEZONE
BEGIN:VEVENT
DTSTART;TZID=UTC:20261025T020000
DTEND;TZID=UTC:20261025T030000
DTSTAMP:20260421T192247
CREATED:20190106T222245Z
LAST-MODIFIED:20251217T122416Z
UID:448-1792893600-1792897200@squaredreamers.de
SUMMARY:SOMMERZEITENDE
DESCRIPTION:  \n \n\nSOMMERENDE\n\nSommerzeit-> Winterzeit\nStellen Sie Ihre Uhren in der Nacht von Samstag auf Sonntag\, den 27.10.2024 früh von 3 Uhr auf 2 Uhr zurück!
URL:https://squaredreamers.de/event/sommerende-2/
LOCATION:Niedersachsen
CATEGORIES:Ereignisse
ATTACH;FMTTYPE=image/gif:https://squaredreamers.de/wp-content/uploads/Kalenderbilder/uhr_0077.gif
END:VEVENT
END:VCALENDAR