BEGIN:VCALENDAR
VERSION:2.0
PRODID:-//Square Dreamers - ECPv6.15.20//NONSGML v1.0//EN
CALSCALE:GREGORIAN
METHOD:PUBLISH
X-ORIGINAL-URL:https://squaredreamers.de
X-WR-CALDESC:Veranstaltungen für Square Dreamers
REFRESH-INTERVAL;VALUE=DURATION:PT1H
X-Robots-Tag:noindex
X-PUBLISHED-TTL:PT1H
BEGIN:VTIMEZONE
TZID:UTC
BEGIN:STANDARD
TZOFFSETFROM:+0000
TZOFFSETTO:+0000
TZNAME:UTC
DTSTART:20250101T000000
END:STANDARD
END:VTIMEZONE
BEGIN:VEVENT
DTSTART;VALUE=DATE:20261003
DTEND;VALUE=DATE:20261004
DTSTAMP:20260421T174028
CREATED:20190106T195524Z
LAST-MODIFIED:20251217T112253Z
UID:388-1790985600-1791071999@squaredreamers.de
SUMMARY:TAG DER DEUTSCHEN EINHEIT
DESCRIPTION:TAG DER DEUTSCHEN EINHEIT
URL:https://squaredreamers.de/event/tag-der-deutschen-einheit-3/
LOCATION:Niedersachsen
CATEGORIES:Feiertage
ATTACH;FMTTYPE=image/jpeg:https://squaredreamers.de/wp-content/uploads/Kalenderbilder/Einheit.jpeg
END:VEVENT
BEGIN:VEVENT
DTSTART;TZID=UTC:20261007T193000
DTEND;TZID=UTC:20261007T213000
DTSTAMP:20260421T174028
CREATED:20230801T190511Z
LAST-MODIFIED:20251217T152359Z
UID:2335-1791401400-1791408600@squaredreamers.de
SUMMARY:UNSER CLUBABEND
DESCRIPTION:Unser Clubabend\nWir tanzen an unserem Clubabend das komplette Mainstream-Programm. \nGraduierte Tänzer aus anderen Clubs sind immer sehr willkommen. \nAuch interessierte Nichttänzer\, die sich einmal informieren wollen\, wie Square Dance funktioniert\, können gern vorbeischauen. \nUm auf kurzfristige Änderungen reagieren zu können\, bitten wir alle unsere Besucher\, sich vorher anzumelden. \nMöglichkeit euch anzumelden findet ihr auf der Seite „Kontakte“. \nEine Beschreibung der Anfahrt findet ihr auf der Seite „Tanzort“. \nWir freuen uns auf euch. \nt
URL:https://squaredreamers.de/event/unser-clubabend-32/
LOCATION:Heinrich-Engelke-Halle\, Spandauer Weg 40\, Hildesheim-Itzum\, Niedersachsen\, 31141\, Germany
CATEGORIES:Clubveranstaltung
ATTACH;FMTTYPE=image/gif:https://squaredreamers.de/wp-content/uploads/Kalenderbilder/tanzpaare.gif
ORGANIZER;CN="Square Dreamers Hildesheim":MAILTO:president@squaredreamers.de
END:VEVENT
BEGIN:VEVENT
DTSTART;TZID=UTC:20261014T193000
DTEND;TZID=UTC:20261014T213000
DTSTAMP:20260421T174028
CREATED:20251217T150551Z
LAST-MODIFIED:20251217T153411Z
UID:2898-1792006200-1792013400@squaredreamers.de
SUMMARY:UNSER CLUBABEND
DESCRIPTION:Unser Clubabend\nDie Square Dreamers tanzen in regelmäßigen Abständen am Mittwochabend in der Heinrich-Engelke-Halle im Hildesheimer Ortsteil Itzum. \nBesucher aus anderen Clubs\, die mittanzen wollen und interessierte Nichttänzer sind immer willkommen.\nUm auf kurzfristige Änderungen reagieren zu können\, bitten wir unsere Besucher\, sich vorher anzumelden.\nMöglichkeit euch anzumelden findet ihr auf der Seite „Kontakte“. Eine Beschreibung der Anfahrt findet ihr auf der Seite „Tanzort“. \nWir freuen uns auf euch.
URL:https://squaredreamers.de/event/unser-clubabend-56/
LOCATION:Niedersachsen
CATEGORIES:Clubveranstaltung
ATTACH;FMTTYPE=image/gif:https://squaredreamers.de/wp-content/uploads/Kalenderbilder/tanzpaare.gif
END:VEVENT
BEGIN:VEVENT
DTSTART;TZID=UTC:20261021T193000
DTEND;TZID=UTC:20261021T213000
DTSTAMP:20260421T174028
CREATED:20251217T150845Z
LAST-MODIFIED:20251217T153232Z
UID:2899-1792611000-1792618200@squaredreamers.de
SUMMARY:UNSER CLUBABEND
DESCRIPTION:Unser Clubabend\nDie Square Dreamers tanzen in regelmäßigen Abständen am Mittwochabend in der Heinrich-Engelke-Halle im Hildesheimer Ortsteil Itzum. \nBesucher aus anderen Clubs\, die mittanzen wollen und interessierte Nichttänzer sind immer willkommen.\nUm auf kurzfristige Änderungen reagieren zu können\, bitten wir unsere Besucher\, sich vorher anzumelden.\nMöglichkeit euch anzumelden findet ihr auf der Seite „Kontakte“. Eine Beschreibung der Anfahrt findet ihr auf der Seite „Tanzort“. \nWir freuen uns auf euch.
URL:https://squaredreamers.de/event/unser-clubabend-57/
LOCATION:Heinrich-Engelke-Halle\, Spandauer Weg 40\, Hildesheim-Itzum\, Niedersachsen\, 31141\, Germany
CATEGORIES:Clubveranstaltung
ATTACH;FMTTYPE=image/gif:https://squaredreamers.de/wp-content/uploads/Kalenderbilder/tanzpaare.gif
ORGANIZER;CN="Square Dreamers Hildesheim":MAILTO:president@squaredreamers.de
END:VEVENT
BEGIN:VEVENT
DTSTART;TZID=UTC:20261025T020000
DTEND;TZID=UTC:20261025T030000
DTSTAMP:20260421T174028
CREATED:20190106T222245Z
LAST-MODIFIED:20251217T122416Z
UID:448-1792893600-1792897200@squaredreamers.de
SUMMARY:SOMMERZEITENDE
DESCRIPTION:  \n \n\nSOMMERENDE\n\nSommerzeit-> Winterzeit\nStellen Sie Ihre Uhren in der Nacht von Samstag auf Sonntag\, den 27.10.2024 früh von 3 Uhr auf 2 Uhr zurück!
URL:https://squaredreamers.de/event/sommerende-2/
LOCATION:Niedersachsen
CATEGORIES:Ereignisse
ATTACH;FMTTYPE=image/gif:https://squaredreamers.de/wp-content/uploads/Kalenderbilder/uhr_0077.gif
END:VEVENT
BEGIN:VEVENT
DTSTART;TZID=UTC:20261028T193000
DTEND;TZID=UTC:20261028T213000
DTSTAMP:20260421T174028
CREATED:20230801T191156Z
LAST-MODIFIED:20251217T164627Z
UID:2336-1793215800-1793223000@squaredreamers.de
SUMMARY:CLUBABEND MIT HALLOWEENFEIER (INTERNE VERANSTALTUNG)
DESCRIPTION:Unser Clubabend mit Halloweenfeier\nWie jedes Jahr\, machen wir auch dieses Jahr wieder\, eine Halloweenfeier mit „Potluck“ an einem Clubabend. Wer möchte\, kann sich verkleiden. Wir tanzen ein wenig und stärken uns am Büfett an den Köstlichkeiten\, die alle mitbringen. \nAn der Versammlung können nur Club-Mitglieder teilnehmen. Gäste können uns an diesem Abend leider nicht besuchen.
URL:https://squaredreamers.de/event/unser-clubabend-33/
LOCATION:Heinrich-Engelke-Halle\, Spandauer Weg 40\, Hildesheim-Itzum\, Niedersachsen\, 31141\, Germany
CATEGORIES:Clubveranstaltung,Interne Clubveranstaltung
ATTACH;FMTTYPE=image/gif:https://squaredreamers.de/wp-content/uploads/Kalenderbilder/tanzpaare.gif
ORGANIZER;CN="Square Dreamers Hildesheim":MAILTO:president@squaredreamers.de
END:VEVENT
BEGIN:VEVENT
DTSTART;VALUE=DATE:20261031
DTEND;VALUE=DATE:20261101
DTSTAMP:20260421T174028
CREATED:20190106T201112Z
LAST-MODIFIED:20251217T122244Z
UID:394-1793404800-1793491199@squaredreamers.de
SUMMARY:REFORMATIONSTAG
DESCRIPTION:  \n \nREFORMATIONSTAG
URL:https://squaredreamers.de/event/reformationstag-3/
LOCATION:Niedersachsen
CATEGORIES:Feiertage
ATTACH;FMTTYPE=image/gif:https://squaredreamers.de/wp-content/uploads/Kalenderbilder/Glaube.gif
END:VEVENT
BEGIN:VEVENT
DTSTART;VALUE=DATE:20261031
DTEND;VALUE=DATE:20261101
DTSTAMP:20260421T174028
CREATED:20190106T230733Z
LAST-MODIFIED:20251217T122158Z
UID:467-1793404800-1793491199@squaredreamers.de
SUMMARY:HALLOWEEN
DESCRIPTION:  \n \nHALLOWEEN
URL:https://squaredreamers.de/event/halloween-3/
LOCATION:Niedersachsen
CATEGORIES:Ereignisse
ATTACH;FMTTYPE=image/gif:https://squaredreamers.de/wp-content/uploads/Kalenderbilder/Halloween.gif
END:VEVENT
END:VCALENDAR