BEGIN:VCALENDAR
VERSION:2.0
PRODID:-//Square Dreamers - ECPv6.15.20//NONSGML v1.0//EN
CALSCALE:GREGORIAN
METHOD:PUBLISH
X-WR-CALNAME:Square Dreamers
X-ORIGINAL-URL:https://squaredreamers.de
X-WR-CALDESC:Veranstaltungen für Square Dreamers
REFRESH-INTERVAL;VALUE=DURATION:PT1H
X-Robots-Tag:noindex
X-PUBLISHED-TTL:PT1H
BEGIN:VTIMEZONE
TZID:UTC
BEGIN:STANDARD
TZOFFSETFROM:+0000
TZOFFSETTO:+0000
TZNAME:UTC
DTSTART:20250101T000000
END:STANDARD
END:VTIMEZONE
BEGIN:VEVENT
DTSTART;TZID=UTC:20261101T140000
DTEND;TZID=UTC:20261101T190000
DTSTAMP:20260421T193017
CREATED:20251217T204658Z
LAST-MODIFIED:20260315T170426Z
UID:2936-1793541600-1793559600@squaredreamers.de
SUMMARY:TORTENTANZ 2026
DESCRIPTION:Unser Tortentanz 2026\nDer Tortentanz ist „das“ Special für Beginner.   Es wird im Wechsel Mainstream bis Ferris Wheel (altes Basic 2) & Mainstream 2026 (neues Mainstream) gecallt. Somit können auch Tänzer\, die noch nicht das gesamte Mainstreamprogramm beherrschen\, an diesem Special teilnehmen. Natürlich ist das Special auch für alle graduierten Tänzer interessant.\nHier kannst du dir den Flyer herunterladen. \nWarum Tortentanz: Weil alle Mitglieder des Clubs Unmengen von Torten und Kuchen anschleppen\, die dann von allen Teilnehmern verzehrt werden können und Kaffee gibt es auch dazu. \nParkplätze:  Leider darf man auf dem gesamten Gelände nicht parken. Man findet aber Parkraum auf dem Gelände des ALDI-Marktes gegenüber.\n \nALDI Hildesheim-Ochtersum\nTheodor-Storm-Straße 20\n31139 Hildesheim \nUnd in der Schlesierstraße und der Lise-Meitner-Straße\, 31139 Hildesheim. \nWir freuen uns auf Euch.
URL:https://squaredreamers.de/event/tortentanz-2026/
LOCATION:Sporthalle Hildesheim-Ochtersum\, Schlesierstraße 15\,\, Hildesheim\, Niedersachsen\, 31139\, Deutschland
CATEGORIES:Besondere Clubveranstalung
ATTACH;FMTTYPE=image/jpeg:https://squaredreamers.de/wp-content/uploads/Seitenbilder/IMG-20241103-WA0001.jpg
ORGANIZER;CN="Square Dreamers Hildesheim":MAILTO:president@squaredreamers.de
END:VEVENT
BEGIN:VEVENT
DTSTART;VALUE=DATE:20261104
DTEND;VALUE=DATE:20261105
DTSTAMP:20260421T193017
CREATED:20240425T091803Z
LAST-MODIFIED:20251219T174415Z
UID:2528-1793750400-1793836799@squaredreamers.de
SUMMARY:KEIN CLUBABEND
DESCRIPTION:Heute kein Clubabend\nAm Mittwoch nach dem „Tortentanz“ findet kein Clubabend statt. \nSonst sind graduierte Tänzer aus anderen Clubs sind immer sehr willkommen. \nAuch interessierte Nichttänzer\, die sich einmal informieren wollen\, wie Square Dance funktioniert\, können gern vorbeischauen. \nUm auf kurzfristige Änderungen reagieren zu können\, bitten wir alle unsere Besucher\, sich vorher anzumelden. \nMöglichkeit euch anzumelden findet ihr auf der Seite „Kontakte“. \nEine Beschreibung der Anfahrt findet ihr auf der Seite „Tanzort“. \nWir freuen uns auf euch.
URL:https://squaredreamers.de/event/unser-clubabend-30/
LOCATION:Niedersachsen
CATEGORIES:Clubveranstaltung
ATTACH;FMTTYPE=image/gif:https://squaredreamers.de/wp-content/uploads/Kalenderbilder/tanzpaare.gif
ORGANIZER;CN="Square Dreamers Hildesheim":MAILTO:president@squaredreamers.de
END:VEVENT
BEGIN:VEVENT
DTSTART;TZID=UTC:20261111T193000
DTEND;TZID=UTC:20261111T213000
DTSTAMP:20260421T193017
CREATED:20230801T191423Z
LAST-MODIFIED:20251217T152407Z
UID:2337-1794425400-1794432600@squaredreamers.de
SUMMARY:UNSER CLUBABEND
DESCRIPTION:Unser Clubabend\nWir tanzen an unserem Clubabend das komplette Mainstream-Programm. \nGraduierte Tänzer aus anderen Clubs sind immer sehr willkommen. \nAuch interessierte Nichttänzer\, die sich einmal informieren wollen\, wie Square Dance funktioniert\, können gern vorbeischauen. \nUm auf kurzfristige Änderungen reagieren zu können\, bitten wir alle unsere Besucher\, sich vorher anzumelden. \nMöglichkeit euch anzumelden findet ihr auf der Seite „Kontakte“. \nEine Beschreibung der Anfahrt findet ihr auf der Seite „Tanzort“. \nWir freuen uns auf euch. \nt
URL:https://squaredreamers.de/event/unser-clubabend-34/
LOCATION:Ballettsaal in der Turnhalle der Robert-Bosch-Gesamtschule\, Richthofenstraße 37\, Hildesheim\, Niedersachsen\, 31137\, Deutschland
CATEGORIES:Clubveranstaltung
ATTACH;FMTTYPE=image/gif:https://squaredreamers.de/wp-content/uploads/Kalenderbilder/tanzpaare.gif
ORGANIZER;CN="Square Dreamers Hildesheim":MAILTO:president@squaredreamers.de
END:VEVENT
BEGIN:VEVENT
DTSTART;TZID=UTC:20261118T193000
DTEND;TZID=UTC:20261118T213000
DTSTAMP:20260421T193017
CREATED:20240425T092052Z
LAST-MODIFIED:20251217T121545Z
UID:2529-1795030200-1795037400@squaredreamers.de
SUMMARY:UNSER CLUBABEND
DESCRIPTION:Unser Clubabend\nWir tanzen an unserem Clubabend das komplette Mainstream-Programm. \nGraduierte Tänzer aus anderen Clubs sind immer sehr willkommen. \nAuch interessierte Nichttänzer\, die sich einmal informieren wollen\, wie Square Dance funktioniert\, können gern vorbeischauen. \nUm auf kurzfristige Änderungen reagieren zu können\, bitten wir alle unsere Besucher\, sich vorher anzumelden. \nMöglichkeit euch anzumelden findet ihr auf der Seite „Kontakte“. \nEine Beschreibung der Anfahrt findet ihr auf der Seite „Tanzort“. \nWir freuen uns auf euch.
URL:https://squaredreamers.de/event/unser-clubabend-36/
LOCATION:Ballettsaal in der Turnhalle der Robert-Bosch-Gesamtschule\, Richthofenstraße 37\, Hildesheim\, Niedersachsen\, 31137\, Deutschland
CATEGORIES:Clubveranstaltung
ATTACH;FMTTYPE=image/gif:https://squaredreamers.de/wp-content/uploads/Kalenderbilder/tanzpaare.gif
ORGANIZER;CN="Square Dreamers Hildesheim":MAILTO:president@squaredreamers.de
END:VEVENT
BEGIN:VEVENT
DTSTART;TZID=UTC:20261125T193000
DTEND;TZID=UTC:20261125T213000
DTSTAMP:20260421T193017
CREATED:20240425T092420Z
LAST-MODIFIED:20251217T121446Z
UID:2530-1795635000-1795642200@squaredreamers.de
SUMMARY:UNSER CLUBABEND
DESCRIPTION:Unser Clubabend\nWir tanzen an unserem Clubabend das komplette Mainstream-Programm. \nGraduierte Tänzer aus anderen Clubs sind immer sehr willkommen. \nAuch interessierte Nichttänzer\, die sich einmal informieren wollen\, wie Square Dance funktioniert\, können gern vorbeischauen. \nUm auf kurzfristige Änderungen reagieren zu können\, bitten wir alle unsere Besucher\, sich vorher anzumelden. \nMöglichkeit euch anzumelden findet ihr auf der Seite „Kontakte“. \nEine Beschreibung der Anfahrt findet ihr auf der Seite „Tanzort“. \nWir freuen uns auf euch.
URL:https://squaredreamers.de/event/unser-clubabend-37/
LOCATION:Ballettsaal in der Turnhalle der Robert-Bosch-Gesamtschule\, Richthofenstraße 37\, Hildesheim\, Niedersachsen\, 31137\, Deutschland
CATEGORIES:Clubveranstaltung
ATTACH;FMTTYPE=image/gif:https://squaredreamers.de/wp-content/uploads/Kalenderbilder/tanzpaare.gif
ORGANIZER;CN="Square Dreamers Hildesheim":MAILTO:president@squaredreamers.de
END:VEVENT
BEGIN:VEVENT
DTSTART;VALUE=DATE:20261129
DTEND;VALUE=DATE:20261130
DTSTAMP:20260421T193017
CREATED:20190107T152042Z
LAST-MODIFIED:20251217T112400Z
UID:474-1795910400-1795996799@squaredreamers.de
SUMMARY:1. ADVENT
DESCRIPTION:  \n  \n \n1. ADVENT
URL:https://squaredreamers.de/event/1-advent-2/
LOCATION:Niedersachsen
CATEGORIES:Ereignisse
ATTACH;FMTTYPE=image/gif:https://squaredreamers.de/wp-content/uploads/Kalenderbilder/advent_0047.gif
END:VEVENT
END:VCALENDAR