BEGIN:VCALENDAR
VERSION:2.0
PRODID:-//Square Dreamers - ECPv6.15.20//NONSGML v1.0//EN
CALSCALE:GREGORIAN
METHOD:PUBLISH
X-WR-CALNAME:Square Dreamers
X-ORIGINAL-URL:https://squaredreamers.de
X-WR-CALDESC:Veranstaltungen für Square Dreamers
REFRESH-INTERVAL;VALUE=DURATION:PT1H
X-Robots-Tag:noindex
X-PUBLISHED-TTL:PT1H
BEGIN:VTIMEZONE
TZID:UTC
BEGIN:STANDARD
TZOFFSETFROM:+0000
TZOFFSETTO:+0000
TZNAME:UTC
DTSTART:20250101T000000
END:STANDARD
END:VTIMEZONE
BEGIN:VEVENT
DTSTART;TZID=UTC:20261202T193000
DTEND;TZID=UTC:20261202T213000
DTSTAMP:20260421T213332
CREATED:20240425T092626Z
LAST-MODIFIED:20251217T121406Z
UID:2531-1796239800-1796247000@squaredreamers.de
SUMMARY:UNSER CLUBABEND
DESCRIPTION:Unser Clubabend\nWir tanzen an unserem Clubabend das komplette Mainstream-Programm. \nGraduierte Tänzer aus anderen Clubs sind immer sehr willkommen. \nAuch interessierte Nichttänzer\, die sich einmal informieren wollen\, wie Square Dance funktioniert\, können gern vorbeischauen. \nUm auf kurzfristige Änderungen reagieren zu können\, bitten wir alle unsere Besucher\, sich vorher anzumelden. \nMöglichkeit euch anzumelden findet ihr auf der Seite „Kontakte“. \nEine Beschreibung der Anfahrt findet ihr auf der Seite „Tanzort“. \nWir freuen uns auf euch.
URL:https://squaredreamers.de/event/unser-clubabend-38/
LOCATION:Ballettsaal in der Turnhalle der Robert-Bosch-Gesamtschule\, Richthofenstraße 37\, Hildesheim\, Niedersachsen\, 31137\, Deutschland
CATEGORIES:Clubveranstaltung
ATTACH;FMTTYPE=image/gif:https://squaredreamers.de/wp-content/uploads/Kalenderbilder/tanzpaare.gif
ORGANIZER;CN="Square Dreamers Hildesheim":MAILTO:president@squaredreamers.de
END:VEVENT
BEGIN:VEVENT
DTSTART;VALUE=DATE:20261206
DTEND;VALUE=DATE:20261207
DTSTAMP:20260421T213332
CREATED:20190107T153435Z
LAST-MODIFIED:20251217T112458Z
UID:489-1796515200-1796601599@squaredreamers.de
SUMMARY:2. ADVENT
DESCRIPTION:  \n  \n \n2. ADVENT
URL:https://squaredreamers.de/event/2-advent-3/
LOCATION:Niedersachsen
CATEGORIES:Ereignisse
ATTACH;FMTTYPE=image/gif:https://squaredreamers.de/wp-content/uploads/Kalenderbilder/advent_0048.gif
END:VEVENT
BEGIN:VEVENT
DTSTART;VALUE=DATE:20261206
DTEND;VALUE=DATE:20261207
DTSTAMP:20260421T213332
CREATED:20190107T160924Z
LAST-MODIFIED:20251217T112710Z
UID:508-1796515200-1796601599@squaredreamers.de
SUMMARY:NIKOLAUSTAG
DESCRIPTION:NIKOLAUSTAG
URL:https://squaredreamers.de/event/nikolaustag-3/
LOCATION:Niedersachsen
CATEGORIES:Ereignisse
ATTACH;FMTTYPE=image/gif:https://squaredreamers.de/wp-content/uploads/Kalenderbilder/nikolaus_0110.gif
END:VEVENT
BEGIN:VEVENT
DTSTART;TZID=UTC:20261209T193000
DTEND;TZID=UTC:20261209T213000
DTSTAMP:20260421T213332
CREATED:20240425T092851Z
LAST-MODIFIED:20251217T121339Z
UID:2532-1796844600-1796851800@squaredreamers.de
SUMMARY:UNSER CLUBABEND
DESCRIPTION:Unser Clubabend\nWir tanzen an unserem Clubabend das komplette Mainstream-Programm. \nGraduierte Tänzer aus anderen Clubs sind immer sehr willkommen. \nAuch interessierte Nichttänzer\, die sich einmal informieren wollen\, wie Square Dance funktioniert\, können gern vorbeischauen. \nUm auf kurzfristige Änderungen reagieren zu können\, bitten wir alle unsere Besucher\, sich vorher anzumelden. \nMöglichkeit euch anzumelden findet ihr auf der Seite „Kontakte“. \nEine Beschreibung der Anfahrt findet ihr auf der Seite „Tanzort“. \nWir freuen uns auf euch.
URL:https://squaredreamers.de/event/unser-clubabend-39/
LOCATION:Ballettsaal in der Turnhalle der Robert-Bosch-Gesamtschule\, Richthofenstraße 37\, Hildesheim\, Niedersachsen\, 31137\, Deutschland
CATEGORIES:Clubveranstaltung
ATTACH;FMTTYPE=image/gif:https://squaredreamers.de/wp-content/uploads/Kalenderbilder/tanzpaare.gif
ORGANIZER;CN="Square Dreamers Hildesheim":MAILTO:president@squaredreamers.de
END:VEVENT
BEGIN:VEVENT
DTSTART;VALUE=DATE:20261213
DTEND;VALUE=DATE:20261214
DTSTAMP:20260421T213332
CREATED:20190107T154002Z
LAST-MODIFIED:20251217T112536Z
UID:496-1797120000-1797206399@squaredreamers.de
SUMMARY:3. ADVENT
DESCRIPTION:  \n  \n \n3. ADVENT
URL:https://squaredreamers.de/event/3-advent-2/
LOCATION:Niedersachsen
CATEGORIES:Ereignisse
ATTACH;FMTTYPE=image/gif:https://squaredreamers.de/wp-content/uploads/Kalenderbilder/advent_0049.gif
END:VEVENT
BEGIN:VEVENT
DTSTART;TZID=UTC:20261216T193000
DTEND;TZID=UTC:20261216T213000
DTSTAMP:20260421T213333
CREATED:20241020T154150Z
LAST-MODIFIED:20251217T121253Z
UID:2674-1797449400-1797456600@squaredreamers.de
SUMMARY:LETZTER TANZABEND 2026
DESCRIPTION:Unser Clubabend\nNach Beendigung der Coronazeit tanzen wir wieder regelmäßig Mainstream an unseren Clubabend. Für Square Dance-Anfänger führen wir gerade eine Class durch. Bei diesem Kursus erlernen die Teilnehmer das Mainstream-Programm. Wir führen die Class während des regulären Clubabends durch. Dabei tanzen Club und Class im Wechsel. \nBesucher aus anderen Clubs\, die mittanzen wollen und interessierte Nichttänzer sind immer willkommen.\nUm auf kurzfristige Änderungen reagieren zu können\, bitten wir unsere Besucher\, sich vorher anzumelden.\nMöglichkeit euch anzumelden findet ihr auf der Seite „Kontakte“. Eine Beschreibung der Anfahrt findet ihr auf der Seite „Tanzort“. \nWir freuen uns auf euch.
URL:https://squaredreamers.de/event/unser-clubabend-42/
LOCATION:Turnhalle der Robert-Bosch-Gesamtschule\, Richthofenstraße 37\, Hildesheim\, Niedersachsen\, 31137\, Deutschland
CATEGORIES:Clubveranstaltung
ATTACH;FMTTYPE=image/gif:https://squaredreamers.de/wp-content/uploads/Kalenderbilder/tanzpaare.gif
ORGANIZER;CN="Square Dreamers Hildesheim":MAILTO:president@squaredreamers.de
END:VEVENT
BEGIN:VEVENT
DTSTART;VALUE=DATE:20261220
DTEND;VALUE=DATE:20261221
DTSTAMP:20260421T213333
CREATED:20190107T154544Z
LAST-MODIFIED:20251217T112631Z
UID:502-1797724800-1797811199@squaredreamers.de
SUMMARY:4. ADVENT
DESCRIPTION:  \n  \n \n4. ADVENT
URL:https://squaredreamers.de/event/4-advent-2/
LOCATION:Niedersachsen
CATEGORIES:Ereignisse
ATTACH;FMTTYPE=image/gif:https://squaredreamers.de/wp-content/uploads/Kalenderbilder/advent_0050.gif
END:VEVENT
BEGIN:VEVENT
DTSTART;TZID=UTC:20261223T000000
DTEND;TZID=UTC:20270106T235900
DTSTAMP:20260421T213333
CREATED:20190106T102944Z
LAST-MODIFIED:20251217T113237Z
UID:244-1797984000-1799279940@squaredreamers.de
SUMMARY:WEIHNACHTSFERIEN
DESCRIPTION:WEIHNACHTSFERIEN
URL:https://squaredreamers.de/event/weihnachtsferien-3/
LOCATION:Niedersachsen
CATEGORIES:Ferien
ATTACH;FMTTYPE=image/gif:https://squaredreamers.de/wp-content/uploads/Kalenderbilder/Winterferien.gif
END:VEVENT
BEGIN:VEVENT
DTSTART;VALUE=DATE:20261224
DTEND;VALUE=DATE:20261225
DTSTAMP:20260421T213333
CREATED:20190107T163308Z
LAST-MODIFIED:20251217T112844Z
UID:516-1798070400-1798156799@squaredreamers.de
SUMMARY:HEILIG ABEND
DESCRIPTION:  \n \nHEILIG ABEND
URL:https://squaredreamers.de/event/heilig-abend/
LOCATION:Niedersachsen
CATEGORIES:Ereignisse
ATTACH;FMTTYPE=image/gif:https://squaredreamers.de/wp-content/uploads/Kalenderbilder/animiertes-weihnachtsmann-bild-0254.gif
END:VEVENT
BEGIN:VEVENT
DTSTART;VALUE=DATE:20261225
DTEND;VALUE=DATE:20261226
DTSTAMP:20260421T213333
CREATED:20190106T202254Z
LAST-MODIFIED:20251217T113319Z
UID:400-1798156800-1798243199@squaredreamers.de
SUMMARY:1. WEIHNACHTSFEIERTAG
DESCRIPTION:  \n \n1. WEIHNACHTSFEIERTAG
URL:https://squaredreamers.de/event/1-weihnachtsfeiertag-3/
LOCATION:Niedersachsen
CATEGORIES:Feiertage
ATTACH;FMTTYPE=image/gif:https://squaredreamers.de/wp-content/uploads/Kalenderbilder/frohe_weihnachten_0089.gif
END:VEVENT
BEGIN:VEVENT
DTSTART;VALUE=DATE:20261226
DTEND;VALUE=DATE:20261227
DTSTAMP:20260421T213333
CREATED:20190106T203653Z
LAST-MODIFIED:20251217T113425Z
UID:406-1798243200-1798329599@squaredreamers.de
SUMMARY:2. WEIHNACHTSFEIERTAG
DESCRIPTION:  \n \n2. WEIHNACHTSFEIERTAG
URL:https://squaredreamers.de/event/2-weihnachtsfeiertag-3/
LOCATION:Niedersachsen
CATEGORIES:Feiertage
ATTACH;FMTTYPE=image/gif:https://squaredreamers.de/wp-content/uploads/Kalenderbilder/weihnachtsbaum_0260.gif
END:VEVENT
BEGIN:VEVENT
DTSTART;VALUE=DATE:20261231
DTEND;VALUE=DATE:20270101
DTSTAMP:20260421T213333
CREATED:20190107T164536Z
LAST-MODIFIED:20251217T113518Z
UID:522-1798675200-1798761599@squaredreamers.de
SUMMARY:SILVESTERABEND
DESCRIPTION:  \n \nSILVESTERABEND
URL:https://squaredreamers.de/event/silvesterabend/
LOCATION:Niedersachsen
CATEGORIES:Ereignisse
ATTACH;FMTTYPE=image/gif:https://squaredreamers.de/wp-content/uploads/Kalenderbilder/Sylvester2-1.gif
END:VEVENT
END:VCALENDAR