BEGIN:VCALENDAR
VERSION:2.0
PRODID:-//Square Dreamers - ECPv6.15.20//NONSGML v1.0//EN
CALSCALE:GREGORIAN
METHOD:PUBLISH
X-ORIGINAL-URL:https://squaredreamers.de
X-WR-CALDESC:Veranstaltungen für Square Dreamers
REFRESH-INTERVAL;VALUE=DURATION:PT1H
X-Robots-Tag:noindex
X-PUBLISHED-TTL:PT1H
BEGIN:VTIMEZONE
TZID:UTC
BEGIN:STANDARD
TZOFFSETFROM:+0000
TZOFFSETTO:+0000
TZNAME:UTC
DTSTART:20260101T000000
END:STANDARD
END:VTIMEZONE
BEGIN:VEVENT
DTSTART;VALUE=DATE:20270201
DTEND;VALUE=DATE:20270203
DTSTAMP:20260422T022820
CREATED:20190106T105632Z
LAST-MODIFIED:20251217T113957Z
UID:252-1801440000-1801612799@squaredreamers.de
SUMMARY:WINTERFERIEN
DESCRIPTION:WINTERFERIEN
URL:https://squaredreamers.de/event/winterferien-2/
LOCATION:Niedersachsen
CATEGORIES:Ferien
ATTACH;FMTTYPE=image/gif:https://squaredreamers.de/wp-content/uploads/Kalenderbilder/Winterferien-1.gif
END:VEVENT
BEGIN:VEVENT
DTSTART;VALUE=DATE:20270214
DTEND;VALUE=DATE:20270215
DTSTAMP:20260422T022820
CREATED:20190106T205905Z
LAST-MODIFIED:20251217T114043Z
UID:412-1802563200-1802649599@squaredreamers.de
SUMMARY:VALENTINSTAG
DESCRIPTION:VALENTINSTAG
URL:https://squaredreamers.de/event/valentinstag-2/
LOCATION:Niedersachsen
CATEGORIES:Ereignisse
ATTACH;FMTTYPE=image/gif:https://squaredreamers.de/wp-content/uploads/Kalenderbilder/valentin2.gif
END:VEVENT
END:VCALENDAR